BEGIN:VCALENDAR
VERSION:2.0
PRODID:-//Fast North Corp//Race Roster
CALSCALE:GREGORIAN
BEGIN:VEVENT
UID:870617_463a3ccc-3441-45e1-afa7-be5f354ade44_1776757651@raceroster.com
DTSTAMP:20260421T074731Z
SUMMARY:Larian Rakan Muda 1.0 2026
DTSTART;TZID=Asia/Kuala_Lumpur:20260419T070000
DTEND;TZID=Asia/Kuala_Lumpur:20260419T100000
URL;VALUE=URI:https://raceroster.com/events/2026/117369/larian-rakan-muda-1
 0-2026
DESCRIPTION:See all event details at https://raceroster.com/events/2026/117
 369/larian-rakan-muda-10-2026
LOCATION:Dataran DBKL\, Kuala Lumpur City Centre\, Kuala Lumpur\, Federal T
 erritory of Kuala Lumpur\, Malaysia
END:VEVENT
END:VCALENDAR
