BEGIN:VCALENDAR
VERSION:2.0
PRODID:-//Fast North Corp//Race Roster
CALSCALE:GREGORIAN
BEGIN:VEVENT
UID:882821_25f8e3d9-4739-4bd8-be65-1d0d2fcef68a_1777122423@raceroster.com
DTSTAMP:20260425T130703Z
SUMMARY:Freedom Fundraiser Run/Walk 2026
DTSTART;TZID=America/New_York:20260703T180000
DTEND;TZID=America/New_York:20260703T210000
URL;VALUE=URI:https://raceroster.com/events/2026/117394/freedom-fundraiser-
 runwalk-2026
DESCRIPTION:See all event details at https://raceroster.com/events/2026/117
 394/freedom-fundraiser-runwalk-2026
LOCATION:Wicked Warren's\, 330 Pennsylvania Avenue West\, Warren\, PA
END:VEVENT
END:VCALENDAR
