BEGIN:VCALENDAR
VERSION:2.0
PRODID:-//Fast North Corp//Race Roster
CALSCALE:GREGORIAN
BEGIN:VEVENT
UID:870896_ced1c0c4-7c3d-47e1-b3eb-dfd02f313af9_1776692795@raceroster.com
DTSTAMP:20260420T134635Z
SUMMARY:Hometown Half Marathon - Tampa
DTSTART;TZID=America/New_York:20260516T000000
DTEND;TZID=America/New_York:20260516T030000
URL;VALUE=URI:https://raceroster.com/events/2026/117410/hometown-half-marat
 hon-tampa
DESCRIPTION:See all event details at https://raceroster.com/events/2026/117
 410/hometown-half-marathon-tampa
LOCATION:Tampa\, FL
END:VEVENT
END:VCALENDAR
