BEGIN:VCALENDAR
VERSION:2.0
PRODID:-//Fast North Corp//Race Roster
CALSCALE:GREGORIAN
BEGIN:VEVENT
UID:873044_cd35da31-8e7b-4394-9cf8-41adc3780181_1776996592@raceroster.com
DTSTAMP:20260424T020952Z
SUMMARY:Footsteps for Families
DTSTART;TZID=America/Chicago:20260613T083000
DTEND;TZID=America/Chicago:20260613T113000
URL;VALUE=URI:https://raceroster.com/events/2026/117714/footsteps-for-famil
 ies
DESCRIPTION:See all event details at https://raceroster.com/events/2026/117
 714/footsteps-for-families
LOCATION:Busse Woods Groves 5-11\, Rolling Meadows\, IL (or Virtual)
END:VEVENT
END:VCALENDAR
