BEGIN:VCALENDAR
VERSION:2.0
PRODID:-//Fast North Corp//Race Roster
CALSCALE:GREGORIAN
BEGIN:VEVENT
UID:878807_0d36f7df-8c52-46d2-a190-b8088c2757b4_1776841492@raceroster.com
DTSTAMP:20260422T070452Z
SUMMARY:Run for the Redwoods!
DTSTART;TZID=America/Los_Angeles:20260520T153000
DTEND;TZID=America/Los_Angeles:20260520T183000
URL;VALUE=URI:https://raceroster.com/events/2026/117739/run-for-the-redwood
 s
DESCRIPTION:Event schedule\n\nMay 20 3:30 PM PDT - 5K\n\nSee all event deta
 ils at https://raceroster.com/events/2026/117739/run-for-the-redwoods
LOCATION:1300 Island Dr\, Redwood City\, CA 94065
END:VEVENT
END:VCALENDAR
