BEGIN:VCALENDAR
VERSION:2.0
PRODID:-//Fast North Corp//Race Roster
CALSCALE:GREGORIAN
BEGIN:VEVENT
UID:880509_1cd92700-5254-4584-8ccd-811af5ea4e9b_1777031060@raceroster.com
DTSTAMP:20260424T114420Z
SUMMARY:Raya Run - Putrajaya 2026
DTSTART;TZID=Asia/Kuala_Lumpur:20260412T070000
DTEND;TZID=Asia/Kuala_Lumpur:20260412T100000
URL;VALUE=URI:https://raceroster.com/events/2026/117807/raya-run-putrajaya-
 2026
DESCRIPTION:See all event details at https://raceroster.com/events/2026/117
 807/raya-run-putrajaya-2026
LOCATION:Dataran Putrajaya\, Persiaran Perdana\, Presint 3\, Putrajaya\, Ma
 laysia
END:VEVENT
END:VCALENDAR
