BEGIN:VCALENDAR
VERSION:2.0
PRODID:-//Fast North Corp//Race Roster
CALSCALE:GREGORIAN
BEGIN:VEVENT
UID:878870_f114b739-a077-4ae9-8b7f-b616a2abbbb8_1776772610@raceroster.com
DTSTAMP:20260421T115650Z
SUMMARY:Chesley Community Classic
DTSTART;TZID=America/Toronto:20260523T070000
DTEND;TZID=America/Toronto:20260523T100000
URL;VALUE=URI:https://raceroster.com/events/2026/117842/chesley-community-c
 lassic
DESCRIPTION:Event schedule\n\nMay 23 7:00 AM EDT - Race Day Registration\nM
 ay 23 9:00 AM EDT - 10K Run Start\nMay 23 9:05 AM EDT - 5K Run/Walk Start\
 nMay 23 10:30 AM EDT - Family 1K Start\nMay 23 11:00 AM EDT - Awards Cerem
 ony\n\nSee all event details at https://raceroster.com/events/2026/117842/
 chesley-community-classic
LOCATION:Chesley\, ON\, Canada
END:VEVENT
END:VCALENDAR
