BEGIN:VCALENDAR
VERSION:2.0
PRODID:-//Fast North Corp//Race Roster
CALSCALE:GREGORIAN
BEGIN:VEVENT
UID:882398_60eb0bdf-ced2-466a-834d-a96b1cf40628_1776772672@raceroster.com
DTSTAMP:20260421T115752Z
SUMMARY:Run for a Resident 2026
DTSTART;TZID=America/Chicago:20260627T080000
DTEND;TZID=America/Chicago:20260627T110000
URL;VALUE=URI:https://raceroster.com/events/2026/117907/run-for-a-resident-
 2026
DESCRIPTION:See all event details at https://raceroster.com/events/2026/117
 907/run-for-a-resident-2026
LOCATION:Sutton Community Home\, 1106 N Saunders Ave\, Sutton\, NE 68979
END:VEVENT
END:VCALENDAR
