BEGIN:VCALENDAR
VERSION:2.0
PRODID:-//Fast North Corp//Race Roster
CALSCALE:GREGORIAN
BEGIN:VEVENT
UID:878040_2bbbfade-cd15-4ed3-b960-493e773be982_1776771944@raceroster.com
DTSTAMP:20260421T114544Z
SUMMARY:Chelsea Chase 5K
DTSTART;TZID=America/New_York:20260516T100000
DTEND;TZID=America/New_York:20260516T130000
URL;VALUE=URI:https://raceroster.com/events/2026/117923/chelsea-chase-5k
DESCRIPTION:See all event details at https://raceroster.com/events/2026/117
 923/chelsea-chase-5k
LOCATION:El Potro Mexican Grill\, Everett Avenue\, Chelsea\, Massachusetts
END:VEVENT
END:VCALENDAR
