BEGIN:VCALENDAR
VERSION:2.0
PRODID:-//Fast North Corp//Race Roster
CALSCALE:GREGORIAN
BEGIN:VEVENT
UID:876108_ec25657f-b222-4d61-9503-d2b56c21f1b3_1777012594@raceroster.com
DTSTAMP:20260424T063634Z
SUMMARY:Dubuque Benefit Classic - 48th Annual
DTSTART;TZID=America/Chicago:20260913T071500
DTEND;TZID=America/Chicago:20260913T101500
URL;VALUE=URI:https://raceroster.com/events/2026/118008/dubuque-benefit-cla
 ssic-48th-annual
DESCRIPTION:See all event details at https://raceroster.com/events/2026/118
 008/dubuque-benefit-classic-48th-annual
LOCATION:ImOn Arena\, Admiral Sheehy Drive\, Dubuque\, IA
END:VEVENT
END:VCALENDAR
