BEGIN:VCALENDAR
VERSION:2.0
PRODID:-//Fast North Corp//Race Roster
CALSCALE:GREGORIAN
BEGIN:VEVENT
UID:880495_8c3692ad-9fc2-40fa-b947-842c8379619b_1776772806@raceroster.com
DTSTAMP:20260421T120006Z
SUMMARY:Boots on the Meridian 5K - Cattlemen's Ball 2026
DTSTART;TZID=America/Chicago:20260606T073000
DTEND;TZID=America/Chicago:20260606T103000
URL;VALUE=URI:https://raceroster.com/events/2026/118066/boots-on-the-meridi
 an-5k-cattlemens-ball-2026
DESCRIPTION:See all event details at https://raceroster.com/events/2026/118
 066/boots-on-the-meridian-5k-cattlemens-ball-2026
LOCATION:Cozad Community Wellness Center\, 210 East 16th Street\, Cozad\, N
 E
END:VEVENT
END:VCALENDAR
