BEGIN:VCALENDAR
VERSION:2.0
PRODID:-//Fast North Corp//Race Roster
CALSCALE:GREGORIAN
BEGIN:VEVENT
UID:877944_57417140-f138-4f82-8d92-2f63801085c8_1776772703@raceroster.com
DTSTAMP:20260421T115823Z
SUMMARY:Rwanda Kigali Marathon - 8/2/2026
DTSTART;TZID=Africa/Johannesburg:20260802T040000
DTEND;TZID=Africa/Johannesburg:20260802T070000
URL;VALUE=URI:https://raceroster.com/events/2026/118069/rwanda-kigali-marat
 hon-822026
DESCRIPTION:See all event details at https://raceroster.com/events/2026/118
 069/rwanda-kigali-marathon-822026
LOCATION:Kigali City\, Rwanda
END:VEVENT
END:VCALENDAR
