BEGIN:VCALENDAR
VERSION:2.0
PRODID:-//Fast North Corp//Race Roster
CALSCALE:GREGORIAN
BEGIN:VEVENT
UID:882928_7b4d4183-e5da-4459-87b0-32fed0fab039_1776915913@raceroster.com
DTSTAMP:20260423T034513Z
SUMMARY:Volunteers: Servus Edmonton Marathon
DTSTART;TZID=America/Edmonton:20260816T070000
DTEND;TZID=America/Edmonton:20260816T100000
URL;VALUE=URI:https://raceroster.com/events/2026/118073/volunteers-servus-e
 dmonton-marathon
DESCRIPTION:Event schedule\n\nAugust 16 7:00 AM MDT - Servus Marathon\nAugu
 st 16 7:45 AM MDT - Healthcare Solutions Half Marathon\nAugust 16 11:00 AM
  MDT - Complete Shipping Solutions Army 10K\nAugust 16 12:00 PM MDT - Flai
 r Airlines Family 5K Fun Run\nAugust 16 1:00 PM MDT - 1K Kids Fun Run\n\nS
 ee all event details at https://raceroster.com/events/2026/118073/voluntee
 rs-servus-edmonton-marathon
LOCATION:Edmonton\, AB\, Canada
END:VEVENT
END:VCALENDAR
