BEGIN:VCALENDAR
VERSION:2.0
PRODID:-//Fast North Corp//Race Roster
CALSCALE:GREGORIAN
BEGIN:VEVENT
UID:885708_dd7d7702-d69d-4e02-9dac-a125e841c001_1777045529@raceroster.com
DTSTAMP:20260424T154529Z
SUMMARY:ASICS x Hawkes Bay Marathon Shakeout Run 2026
DTSTART;TZID=Pacific/Auckland:20260515T153000
DTEND;TZID=Pacific/Auckland:20260515T183000
URL;VALUE=URI:https://raceroster.com/events/2026/118107/asics-x-hawkes-bay-
 marathon-shakeout-run-2026
DESCRIPTION:See all event details at https://raceroster.com/events/2026/118
 107/asics-x-hawkes-bay-marathon-shakeout-run-2026
LOCATION:Tom Parker Fountain Marine Parade\, Bluff Hill\, Napier\, New Zeal
 and
END:VEVENT
END:VCALENDAR
