BEGIN:VCALENDAR
VERSION:2.0
PRODID:-//Fast North Corp//Race Roster
CALSCALE:GREGORIAN
BEGIN:VEVENT
UID:876824_31b33377-8c0c-4cb6-a026-29b8bca86c62_1776772670@raceroster.com
DTSTAMP:20260421T115750Z
SUMMARY:Running Bear at the Rocks
DTSTART;TZID=America/New_York:20260926T090000
DTEND;TZID=America/New_York:20260926T120000
URL;VALUE=URI:https://raceroster.com/events/2026/118222/running-bear-at-the
 -rocks
DESCRIPTION:See all event details at https://raceroster.com/events/2026/118
 222/running-bear-at-the-rocks
LOCATION:Bear Rocks Community Club\, Big Springs Road\, Acme\, PA
END:VEVENT
END:VCALENDAR
