BEGIN:VCALENDAR
VERSION:2.0
PRODID:-//Fast North Corp//Race Roster
CALSCALE:GREGORIAN
BEGIN:VEVENT
UID:881916_f2894a52-0589-4697-8417-53c20993cc18_1777133496@raceroster.com
DTSTAMP:20260425T161136Z
SUMMARY:Tour de Essex
DTSTART;TZID=America/Chicago:20261010T073000
DTEND;TZID=America/Chicago:20261010T103000
URL;VALUE=URI:https://raceroster.com/events/2026/118252/tour-de-essex
DESCRIPTION:See all event details at https://raceroster.com/events/2026/118
 252/tour-de-essex
LOCATION:Essex Park\, West River Road Northwest\, Rochester\, MN
END:VEVENT
END:VCALENDAR
