BEGIN:VCALENDAR
VERSION:2.0
PRODID:-//Fast North Corp//Race Roster
CALSCALE:GREGORIAN
BEGIN:VEVENT
UID:877133_03ef3408-45a9-48e5-8a49-8c176d73d5d5_1776983299@raceroster.com
DTSTAMP:20260423T222819Z
SUMMARY:Abby's Army 5K Walk/Run
DTSTART;TZID=America/Chicago:20260613T080000
DTEND;TZID=America/Chicago:20260613T110000
URL;VALUE=URI:https://raceroster.com/events/2026/118345/abbys-army-5k-walkr
 un
DESCRIPTION:See all event details at https://raceroster.com/events/2026/118
 345/abbys-army-5k-walkrun
LOCATION:4077 Flowood Drive\, Flowood\, MS 39232
END:VEVENT
END:VCALENDAR
