BEGIN:VCALENDAR
VERSION:2.0
PRODID:-//Fast North Corp//Race Roster
CALSCALE:GREGORIAN
BEGIN:VEVENT
UID:876467_666d8260-7098-4e7a-86c4-1a52a4f83b7c_1776772853@raceroster.com
DTSTAMP:20260421T120053Z
SUMMARY:Clinique de course à pied Trois-Rivières
DTSTART;TZID=America/Toronto:20260419T090000
DTEND;TZID=America/Toronto:20260419T120000
URL;VALUE=URI:https://raceroster.com/events/2026/118352/clinique-de-course-
 a-pied-trois-rivieres
DESCRIPTION:Pour voir tous les détails de l’événement\, rendez-vous su
 r https://raceroster.com/events/2026/118352/clinique-de-course-a-pied-troi
 s-rivieres
LOCATION:57 Rue Nicol\, Trois-Rivières\, QC G9A 3B9\, Canada
END:VEVENT
BEGIN:VEVENT
UID:876468_666d8260-7098-4e7a-86c4-1a52a4f83b7c_1776772853@raceroster.com
DTSTAMP:20260421T120053Z
SUMMARY:Clinique de course à pied Trois-Rivières
DTSTART;TZID=America/Toronto:20260509T090000
DTEND;TZID=America/Toronto:20260509T120000
URL;VALUE=URI:https://raceroster.com/events/2026/118352/clinique-de-course-
 a-pied-trois-rivieres
DESCRIPTION:Pour voir tous les détails de l’événement\, rendez-vous su
 r https://raceroster.com/events/2026/118352/clinique-de-course-a-pied-troi
 s-rivieres
LOCATION:57 Rue Nicol\, Trois-Rivières\, QC G9A 3B9\, Canada
END:VEVENT
END:VCALENDAR
