BEGIN:VCALENDAR
VERSION:2.0
PRODID:-//Fast North Corp//Race Roster
CALSCALE:GREGORIAN
BEGIN:VEVENT
UID:876370_57ff18fe-1f46-4db9-b021-87211b336542_1776773759@raceroster.com
DTSTAMP:20260421T121559Z
SUMMARY:Blue Ribbon Dash
DTSTART;TZID=Asia/Kuala_Lumpur:20260517T060000
DTEND;TZID=Asia/Kuala_Lumpur:20260517T090000
URL;VALUE=URI:https://raceroster.com/events/2026/118395/blue-ribbon-dash
DESCRIPTION:See all event details at https://raceroster.com/events/2026/118
 395/blue-ribbon-dash
LOCATION:MATIC\, Jalan Ampang\, Kuala Lumpur\, Federal Territory of Kuala L
 umpur\, Malaysia
END:VEVENT
END:VCALENDAR
