BEGIN:VCALENDAR
VERSION:2.0
PRODID:-//Fast North Corp//Race Roster
CALSCALE:GREGORIAN
BEGIN:VEVENT
UID:882802_4faeaf84-026e-46c0-a318-bad14d1667b1_1776996653@raceroster.com
DTSTAMP:20260424T021053Z
SUMMARY:Inside Out Club Fall Family 5K
DTSTART;TZID=America/Chicago:20260927T090000
DTEND;TZID=America/Chicago:20260927T120000
URL;VALUE=URI:https://raceroster.com/events/2026/118401/inside-out-club-fal
 l-family-5k
DESCRIPTION:Event schedule\n\nSeptember 26 10:30 AM CDT - Pre Race Day Pack
 et Pick Up @ Naperville Running in Downtown Naperville 10:30A-12:30P\nSept
 ember 27 8:00 AM CDT - Race Day Registration Opens at Danada Forest Preser
 ve\nSeptember 27 8:45 AM CDT - Race Day Registration Closes\nSeptember 27 
 9:00 AM CDT - 5K Run/Walk Starts\nSeptember 27 9:45 AM CDT - Kids Fun Run 
 50-yard dash\nSeptember 27 10:15 AM CDT - Awards/Prize Presentation\n\nSee
  all event details at https://raceroster.com/events/2026/118401/inside-out
 -club-fall-family-5k
LOCATION:Forest Preserve District of DuPage County\, Naperville Road\, Whea
 ton\, IL\, USA
END:VEVENT
END:VCALENDAR
