BEGIN:VCALENDAR
VERSION:2.0
PRODID:-//Fast North Corp//Race Roster
CALSCALE:GREGORIAN
BEGIN:VEVENT
UID:876475_1d35c0f6-af02-4e9e-94b4-d1bf78d7958a_1776602177@raceroster.com
DTSTAMP:20260419T123617Z
SUMMARY:Black Hills Runners Club Trail Race Series
DTSTART;TZID=America/Denver:20261231T120000
DTEND;TZID=America/Denver:20261231T150000
URL;VALUE=URI:https://raceroster.com/events/2026/118408/black-hills-runners
 -club-trail-race-series
DESCRIPTION:See all event details at https://raceroster.com/events/2026/118
 408/black-hills-runners-club-trail-race-series
LOCATION:1130 West Omaha Street\, Rapid City\, SD
END:VEVENT
END:VCALENDAR
