BEGIN:VCALENDAR
VERSION:2.0
PRODID:-//Fast North Corp//Race Roster
CALSCALE:GREGORIAN
BEGIN:VEVENT
UID:876589_c3378d33-4d93-490e-9ce0-65acff129a9b_1776897288@raceroster.com
DTSTAMP:20260422T223448Z
SUMMARY:Platte River 5K
DTSTART;TZID=America/Chicago:20260725T083000
DTEND;TZID=America/Chicago:20260725T113000
URL;VALUE=URI:https://raceroster.com/events/2026/118430/platte-river-5k
DESCRIPTION:Event schedule\n\nJuly 25 7:00 AM CDT - Race Day Registration\n
 July 25 8:00 AM CDT - Registration Closes\nJuly 25 8:30 AM CDT - 5K Run/Wa
 lk and K-9 Start\nJuly 25 9:15 AM CDT - Child&#039\;s Fun Run Start\n\nSee
  all event details at https://raceroster.com/events/2026/118430/platte-riv
 er-5k
LOCATION:Royalton Elementary School\, 119 North Driftwood Street\, Royalton
 \, MN\, United States
END:VEVENT
END:VCALENDAR
