BEGIN:VCALENDAR
VERSION:2.0
PRODID:-//Fast North Corp//Race Roster
CALSCALE:GREGORIAN
BEGIN:VEVENT
UID:877495_63365e65-25a4-4fae-82f8-57e4a1d56139_1776743425@raceroster.com
DTSTAMP:20260421T035025Z
SUMMARY:Peer Power Big River Crossing Race
DTSTART;TZID=America/Chicago:20261114T083000
DTEND;TZID=America/Chicago:20261114T113000
URL;VALUE=URI:https://raceroster.com/events/2026/118431/peer-power-big-rive
 r-crossing-race
DESCRIPTION:See all event details at https://raceroster.com/events/2026/118
 431/peer-power-big-river-crossing-race
LOCATION:Martyrs Park\, Channel 3rd Drive\, Memphis\, TN\, USA
END:VEVENT
END:VCALENDAR
