BEGIN:VCALENDAR
VERSION:2.0
PRODID:-//Fast North Corp//Race Roster
CALSCALE:GREGORIAN
BEGIN:VEVENT
UID:883547_9f2edcef-8f04-4af7-b629-4e5d20448136_1776602172@raceroster.com
DTSTAMP:20260419T123612Z
SUMMARY:5h Annual Juneteenth Freedom Run: United We Stand
DTSTART;TZID=America/New_York:20260620T080000
DTEND;TZID=America/New_York:20260620T110000
URL;VALUE=URI:https://raceroster.com/events/2026/118503/5h-annual-juneteent
 h-freedom-run-united-we-stand
DESCRIPTION:Event schedule\n\nJune 20 6:45 AM EDT - Run Registration and Pa
 cket Pick Up\nJune 20 8:00 AM EDT - 5K/10K/Half Marathon Start\nJune 20 9:
 00 AM EDT - Walk Packet Pick Up and Registration\nJune 20 10:00 AM EDT - W
 alk Start\n\nSee all event details at https://raceroster.com/events/2026/1
 18503/5h-annual-juneteenth-freedom-run-united-we-stand
LOCATION:Hubert Fry Center\, Tennessee Riverpark\, Amnicola Highway\, Chatt
 anooga\, TN
END:VEVENT
END:VCALENDAR
