BEGIN:VCALENDAR
VERSION:2.0
PRODID:-//Fast North Corp//Race Roster
CALSCALE:GREGORIAN
BEGIN:VEVENT
UID:877351_0f49d2b8-0c6e-4f23-b6d3-66375d1bd794_1776601782@raceroster.com
DTSTAMP:20260419T122942Z
SUMMARY:Crossroads Trail Mix
DTSTART;TZID=America/Chicago:20260620T073000
DTEND;TZID=America/Chicago:20260620T103000
URL;VALUE=URI:https://raceroster.com/events/2026/118511/crossroads-trail-mi
 x
DESCRIPTION:See all event details at https://raceroster.com/events/2026/118
 511/crossroads-trail-mix
LOCATION:520 Westbrook Dr\, DeWitt\, IA 52742
END:VEVENT
END:VCALENDAR
