BEGIN:VCALENDAR
VERSION:2.0
PRODID:-//Fast North Corp//Race Roster
CALSCALE:GREGORIAN
BEGIN:VEVENT
UID:880862_ce01b168-a381-4cdd-8064-2b66b3e70b4a_1776772889@raceroster.com
DTSTAMP:20260421T120129Z
SUMMARY:Course du Festival Acadien / Acadian Festival Road Race
DTSTART;TZID=America/Halifax:20260905T083000
DTEND;TZID=America/Halifax:20260905T113000
URL;VALUE=URI:https://raceroster.com/events/2026/118534/course-du-festival-
 acadien-acadian-festival-road-race
DESCRIPTION:Event schedule\n\nSeptember 4 5:00 PM ADT - Race Roster Registr
 ation Closes\nSeptember 5 7:30 AM ADT - Race Day Registration - Begins\nSe
 ptember 5 8:30 AM ADT - 1/2 Marathon Race Start Time\nSeptember 5 9:00 AM 
 ADT - 5km &amp\; 10km Race Start Time\nSeptember 5 9:30 AM ADT - Youth Run
 ning Series Under 5 (500m)\nSeptember 5 9:50 AM ADT - Youth Running Series
  Under 8 (1km)\nSeptember 5 10:10 AM ADT - Youth Running Series Under 11 (
 1.5km)\nSeptember 5 10:20 AM ADT - Youth Running Series Under 13 (2km)\n\n
 See all event details at https://raceroster.com/events/2026/118534/course-
 du-festival-acadien-acadian-festival-road-race
LOCATION:École Évangéline\, Wellington\, PE\, Canada
END:VEVENT
END:VCALENDAR
