BEGIN:VCALENDAR
VERSION:2.0
PRODID:-//Fast North Corp//Race Roster
CALSCALE:GREGORIAN
BEGIN:VEVENT
UID:878018_1a4dbca4-4ebe-45de-8e63-ae9433782641_1776876392@raceroster.com
DTSTAMP:20260422T164632Z
SUMMARY:Moonlight Chase
DTSTART;TZID=America/Chicago:20260711T193000
DTEND;TZID=America/Chicago:20260711T223000
URL;VALUE=URI:https://raceroster.com/events/2026/118604/moonlight-chase
DESCRIPTION:See all event details at https://raceroster.com/events/2026/118
 604/moonlight-chase
LOCATION:North 2nd Street\, Eldridge\, IA
END:VEVENT
END:VCALENDAR
