BEGIN:VCALENDAR
VERSION:2.0
PRODID:-//Fast North Corp//Race Roster
CALSCALE:GREGORIAN
BEGIN:VEVENT
UID:878394_b6b73edf-83e3-4ef3-b4e6-a58eea75acc3_1776772610@raceroster.com
DTSTAMP:20260421T115651Z
SUMMARY:Roll Racing 16
DTSTART;TZID=Australia/Darwin:20260424T173000
DTEND;TZID=Australia/Darwin:20260424T203000
URL;VALUE=URI:https://raceroster.com/events/2026/118648/roll-racing-16
DESCRIPTION:See all event details at https://raceroster.com/events/2026/118
 648/roll-racing-16
LOCATION:Hidden Valley Raceway\, Hidden Valley NT\, Australia
END:VEVENT
END:VCALENDAR
