BEGIN:VCALENDAR
VERSION:2.0
PRODID:-//Fast North Corp//Race Roster
CALSCALE:GREGORIAN
BEGIN:VEVENT
UID:883985_ccb7e563-d7f5-4818-b281-d43c5cedd4f0_1776605383@raceroster.com
DTSTAMP:20260419T132943Z
SUMMARY:Action Dash 2026
DTSTART;TZID=America/Edmonton:20260627T080000
DTEND;TZID=America/Edmonton:20260627T110000
URL;VALUE=URI:https://raceroster.com/events/2026/118671/action-dash-2026
DESCRIPTION:See all event details at https://raceroster.com/events/2026/118
 671/action-dash-2026
LOCATION:William Hawrelak Park\, Groat Road Northwest\, Edmonton\, AB\, Can
 ada
END:VEVENT
END:VCALENDAR
