BEGIN:VCALENDAR
VERSION:2.0
PRODID:-//Fast North Corp//Race Roster
CALSCALE:GREGORIAN
BEGIN:VEVENT
UID:881638_8da38cf0-69e9-4b57-a953-2800c2e007e9_1777136794@raceroster.com
DTSTAMP:20260425T170634Z
SUMMARY:Pirate Dash 5K
DTSTART;TZID=America/New_York:20260613T083000
DTEND;TZID=America/New_York:20260613T113000
URL;VALUE=URI:https://raceroster.com/events/2026/118675/pirate-dash-5k
DESCRIPTION:See all event details at https://raceroster.com/events/2026/118
 675/pirate-dash-5k
LOCATION:Charlestown State Park\, 12500 IN-62\, Charlestown\, IN 47111
END:VEVENT
END:VCALENDAR
