BEGIN:VCALENDAR
VERSION:2.0
PRODID:-//Fast North Corp//Race Roster
CALSCALE:GREGORIAN
BEGIN:VEVENT
UID:878691_18be8902-ea09-47ee-a346-3f1cf70d8f48_1776950669@raceroster.com
DTSTAMP:20260423T132429Z
SUMMARY:Arlington Independence Day Parade Firecracker 5K
DTSTART;TZID=America/Chicago:20260704T070000
DTEND;TZID=America/Chicago:20260704T100000
URL;VALUE=URI:https://raceroster.com/events/2026/118677/arlington-independe
 nce-day-parade-firecracker-5k
DESCRIPTION:Event schedule\n\nJuly 4 6:00 AM CDT - Race day packet pick up\
 nJuly 4 7:00 AM CDT - 5K START\nJuly 4 7:45 AM CDT - AWARDS\nJuly 4 8:15 A
 M CDT - COURSE CLOSED\n\nSee all event details at https://raceroster.com/e
 vents/2026/118677/arlington-independence-day-parade-firecracker-5k
LOCATION:Arlington\, TX
END:VEVENT
END:VCALENDAR
