BEGIN:VCALENDAR
VERSION:2.0
PRODID:-//Fast North Corp//Race Roster
CALSCALE:GREGORIAN
BEGIN:VEVENT
UID:883376_9b219ad0-cfd3-405a-9bc3-f25ab411cdda_1776602436@raceroster.com
DTSTAMP:20260419T124036Z
SUMMARY:5K for CTCK
DTSTART;TZID=America/Toronto:20260613T100000
DTEND;TZID=America/Toronto:20260613T130000
URL;VALUE=URI:https://raceroster.com/events/2026/118685/5k-for-ctck
DESCRIPTION:See all event details at https://raceroster.com/events/2026/118
 685/5k-for-ctck
LOCATION:Mud Creek\, Chatham\, ON\, Canada
END:VEVENT
END:VCALENDAR
