BEGIN:VCALENDAR
VERSION:2.0
PRODID:-//Fast North Corp//Race Roster
CALSCALE:GREGORIAN
BEGIN:VEVENT
UID:884297_df899e74-4f8f-4204-82ad-5129a3154712_1776790861@raceroster.com
DTSTAMP:20260421T170101Z
SUMMARY:The Night Thing 2026
DTSTART;TZID=America/Toronto:20261023T190000
DTEND;TZID=America/Toronto:20261023T220000
URL;VALUE=URI:https://raceroster.com/events/2026/118700/the-night-thing-202
 6
DESCRIPTION:Event schedule\n\nOctober 23 6:00 PM EDT - Race Check in (Aubur
 n Riverside Retreat)\nOctober 23 7:00 PM EDT - 12km Start\nOctober 23 7:20
  PM EDT - 7km Start\n\nSee all event details at https://raceroster.com/eve
 nts/2026/118700/the-night-thing-2026
LOCATION:Auburn Riverside Retreat\, Blyth Road\, Auburn\, ON\, Canada
END:VEVENT
END:VCALENDAR
