BEGIN:VCALENDAR
VERSION:2.0
PRODID:-//Fast North Corp//Race Roster
CALSCALE:GREGORIAN
BEGIN:VEVENT
UID:878873_843e3568-9d56-4186-96b8-f57b2df7b3bf_1776771405@raceroster.com
DTSTAMP:20260421T113645Z
SUMMARY:SOS
DTSTART;TZID=Australia/Sydney:20260530T090000
DTEND;TZID=Australia/Sydney:20260530T120000
URL;VALUE=URI:https://raceroster.com/events/2026/118701/sos
DESCRIPTION:Event schedule\n\nMay 30 9:00 AM GMT+10 - Event Help Desk opens
 \nMay 30 9:30 AM GMT+10 - Course start opens\nMay 30 11:00 AM GMT+10 - Las
 t starts\nMay 30 12:00 PM GMT+10 - Course closure\n\nSee all event details
  at https://raceroster.com/events/2026/118701/sos
LOCATION:Cabarita Park\, Cabarita Road\, Cabarita NSW\, Australia
END:VEVENT
END:VCALENDAR
