BEGIN:VCALENDAR
VERSION:2.0
PRODID:-//Fast North Corp//Race Roster
CALSCALE:GREGORIAN
BEGIN:VEVENT
UID:881552_cf62732d-eeef-4dca-bc67-b956fcc23294_1776985044@raceroster.com
DTSTAMP:20260423T225724Z
SUMMARY:Disability Awareness
DTSTART;TZID=America/Chicago:20260712T093000
DTEND;TZID=America/Chicago:20260712T123000
URL;VALUE=URI:https://raceroster.com/events/2026/118762/disability-awarenes
 s
DESCRIPTION:Event schedule\n\nJuly 10 8:00 AM CDT - Pre race Packet Pick Up
  at Hill Arboretum 8 AM-4PM\nJuly 12 8:30 AM CDT - Race Day Packet Pick Up
  and Registration\nJuly 12 9:30 AM CDT - 5K * 2K Start!\n\nSee all event d
 etails at https://raceroster.com/events/2026/118762/disability-awareness
LOCATION:2040 Bridget Avenue\, Evanston
END:VEVENT
END:VCALENDAR
