BEGIN:VCALENDAR
VERSION:2.0
PRODID:-//Fast North Corp//Race Roster
CALSCALE:GREGORIAN
BEGIN:VEVENT
UID:884889_3ae3c85a-2ada-44ff-b1a3-98d101262cdb_1777112302@raceroster.com
DTSTAMP:20260425T101822Z
SUMMARY:Running Out Of Summer 5K 2026
DTSTART;TZID=America/New_York:20260829T100000
DTEND;TZID=America/New_York:20260829T130000
URL;VALUE=URI:https://raceroster.com/events/2026/118835/running-out-of-summ
 er-5k-2026
DESCRIPTION:See all event details at https://raceroster.com/events/2026/118
 835/running-out-of-summer-5k-2026
LOCATION:99 Valley Street\, Spencer\, Massachusetts 01562
END:VEVENT
END:VCALENDAR
