BEGIN:VCALENDAR
VERSION:2.0
PRODID:-//Fast North Corp//Race Roster
CALSCALE:GREGORIAN
BEGIN:VEVENT
UID:884058_36f00671-8645-46c7-bc56-cd9b833b02cd_1776601266@raceroster.com
DTSTAMP:20260419T122106Z
SUMMARY:Tour de Pain
DTSTART;TZID=America/New_York:20260807T180000
DTEND;TZID=America/New_York:20260807T210000
URL;VALUE=URI:https://raceroster.com/events/2026/118873/tour-de-pain
DESCRIPTION:See all event details at https://raceroster.com/events/2026/118
 873/tour-de-pain
LOCATION:8900 Prominence Pkwy\, Jacksonville\, FL 32256
END:VEVENT
BEGIN:VEVENT
UID:884059_36f00671-8645-46c7-bc56-cd9b833b02cd_1776601266@raceroster.com
DTSTAMP:20260419T122106Z
SUMMARY:Tour de Pain
DTSTART;TZID=America/New_York:20260808T070000
DTEND;TZID=America/New_York:20260808T100000
URL;VALUE=URI:https://raceroster.com/events/2026/118873/tour-de-pain
DESCRIPTION:See all event details at https://raceroster.com/events/2026/118
 873/tour-de-pain
LOCATION:8900 Prominence Pkwy\, Jacksonville\, FL 32256
END:VEVENT
BEGIN:VEVENT
UID:884060_36f00671-8645-46c7-bc56-cd9b833b02cd_1776601266@raceroster.com
DTSTAMP:20260419T122106Z
SUMMARY:Tour de Pain
DTSTART;TZID=America/New_York:20260808T090000
DTEND;TZID=America/New_York:20260808T120000
URL;VALUE=URI:https://raceroster.com/events/2026/118873/tour-de-pain
DESCRIPTION:See all event details at https://raceroster.com/events/2026/118
 873/tour-de-pain
LOCATION:8900 Prominence Pkwy\, Jacksonville\, FL 32256
END:VEVENT
END:VCALENDAR
