BEGIN:VCALENDAR
VERSION:2.0
PRODID:-//Fast North Corp//Race Roster
CALSCALE:GREGORIAN
BEGIN:VEVENT
UID:883904_bf525052-75a1-4f9b-bd30-fa30b9bedc20_1776602494@raceroster.com
DTSTAMP:20260419T124134Z
SUMMARY:Nature Republic Sun Safe Run 2026
DTSTART;TZID=Asia/Manila:20260425T050000
DTEND;TZID=Asia/Manila:20260425T080000
URL;VALUE=URI:https://raceroster.com/events/2026/118974/nature-republic-sun
 -safe-run-2026
DESCRIPTION:See all event details at https://raceroster.com/events/2026/118
 974/nature-republic-sun-safe-run-2026
LOCATION:SM MOA Complex\, Bayshore Ave cor Ocean Drive
END:VEVENT
END:VCALENDAR
