BEGIN:VCALENDAR
VERSION:2.0
PRODID:-//Fast North Corp//Race Roster
CALSCALE:GREGORIAN
BEGIN:VEVENT
UID:880756_35fd7bac-e52d-4654-b4bf-d0ed51a79ace_1776795522@raceroster.com
DTSTAMP:20260421T181842Z
SUMMARY:Application for Accreditation 2026
DTSTART;TZID=America/Vancouver:20260503T070000
DTEND;TZID=America/Vancouver:20260503T100000
URL;VALUE=URI:https://raceroster.com/events/2026/119014/application-for-acc
 reditation-2026
DESCRIPTION:See all event details at https://raceroster.com/events/2026/119
 014/application-for-accreditation-2026
LOCATION:Vancouver\, BC\, Canada
END:VEVENT
END:VCALENDAR
