BEGIN:VCALENDAR
VERSION:2.0
PRODID:-//Fast North Corp//Race Roster
CALSCALE:GREGORIAN
BEGIN:VEVENT
UID:880846_6ba4243a-6ab4-44de-ad4d-81ab840bb79f_1776601855@raceroster.com
DTSTAMP:20260419T123055Z
SUMMARY:Official 2026 California International Marathon First-Timer Program
DTSTART;TZID=America/Los_Angeles:20260601T000000
DTEND;TZID=America/Los_Angeles:20260601T030000
URL;VALUE=URI:https://raceroster.com/events/2026/119024/official-2026-calif
 ornia-international-marathon-first-timer-program
DESCRIPTION:See all event details at https://raceroster.com/events/2026/119
 024/official-2026-california-international-marathon-first-timer-program
LOCATION:Sacramento Running Association\, Power Inn Rd\, Sacramento\, CA 95
 826
END:VEVENT
END:VCALENDAR
