BEGIN:VCALENDAR
VERSION:2.0
PRODID:-//Fast North Corp//Race Roster
CALSCALE:GREGORIAN
BEGIN:VEVENT
UID:884063_3b1075a6-8b87-4dc0-b648-cc4312bf52fc_1776602507@raceroster.com
DTSTAMP:20260419T124147Z
SUMMARY:Run\, Walk\, Roll & Law Enforcement Torch Run (formerly the Summer 
 Solstice 5K)
DTSTART;TZID=America/Vancouver:20260609T183000
DTEND;TZID=America/Vancouver:20260609T213000
URL;VALUE=URI:https://raceroster.com/events/2026/119038/run-walk-roll-and-l
 aw-enforcement-torch-run-formerly-the-summer-solstice-5k
DESCRIPTION:See all event details at https://raceroster.com/events/2026/119
 038/run-walk-roll-and-law-enforcement-torch-run-formerly-the-summer-solsti
 ce-5k
LOCATION:Delta Police Headquarters\, Clarence Taylor Crescent\, Delta\, BC\
 , Canada
END:VEVENT
END:VCALENDAR
