BEGIN:VCALENDAR
VERSION:2.0
PRODID:-//Fast North Corp//Race Roster
CALSCALE:GREGORIAN
BEGIN:VEVENT
UID:885429_f292bc5d-1fb0-4811-b545-546843826413_1776952420@raceroster.com
DTSTAMP:20260423T135340Z
SUMMARY:The Hallora Marathon Festival 2026
DTSTART;TZID=Australia/Melbourne:20261206T070000
DTEND;TZID=Australia/Melbourne:20261206T100000
URL;VALUE=URI:https://raceroster.com/events/2026/119052/the-hallora-maratho
 n-festival-2026
DESCRIPTION:See all event details at https://raceroster.com/events/2026/119
 052/the-hallora-marathon-festival-2026
LOCATION:Western Park Reserve\, Warragul VIC\, Australia
END:VEVENT
END:VCALENDAR
