BEGIN:VCALENDAR
VERSION:2.0
PRODID:-//Fast North Corp//Race Roster
CALSCALE:GREGORIAN
BEGIN:VEVENT
UID:881445_82c7992f-fb53-4ae8-9026-97a87d580e2d_1776772806@raceroster.com
DTSTAMP:20260421T120006Z
SUMMARY:2026 Cycle for United Way - Provincial Government Campaign
DTSTART;TZID=America/Halifax:20260519T180000
DTEND;TZID=America/Halifax:20260519T210000
URL;VALUE=URI:https://raceroster.com/events/2026/119104/2026-cycle-for-unit
 ed-way-provincial-government-campaign
DESCRIPTION:Event schedule\n\nMay 19 6:00 PM ADT - Mahone Bay to Lunenburg:
  Bay to Bay Trail (20 km total)\nMay 23 8:30 AM ADT - Pictou NS – Jitney
  Trail to Scotsburn (20 km)\nMay 26 6:00 PM ADT - Salt Marsh Trail in Dart
 mouth (20 – 24 km)\n\nSee all event details at https://raceroster.com/ev
 ents/2026/119104/2026-cycle-for-united-way-provincial-government-campaign
LOCATION:Nova Scotia\, Canada
END:VEVENT
BEGIN:VEVENT
UID:881446_82c7992f-fb53-4ae8-9026-97a87d580e2d_1776772806@raceroster.com
DTSTAMP:20260421T120006Z
SUMMARY:2026 Cycle for United Way - Provincial Government Campaign
DTSTART;TZID=America/Halifax:20260523T083000
DTEND;TZID=America/Halifax:20260523T113000
URL;VALUE=URI:https://raceroster.com/events/2026/119104/2026-cycle-for-unit
 ed-way-provincial-government-campaign
DESCRIPTION:Event schedule\n\nMay 19 6:00 PM ADT - Mahone Bay to Lunenburg:
  Bay to Bay Trail (20 km total)\nMay 23 8:30 AM ADT - Pictou NS – Jitney
  Trail to Scotsburn (20 km)\nMay 26 6:00 PM ADT - Salt Marsh Trail in Dart
 mouth (20 – 24 km)\n\nSee all event details at https://raceroster.com/ev
 ents/2026/119104/2026-cycle-for-united-way-provincial-government-campaign
LOCATION:Nova Scotia\, Canada
END:VEVENT
BEGIN:VEVENT
UID:881447_82c7992f-fb53-4ae8-9026-97a87d580e2d_1776772806@raceroster.com
DTSTAMP:20260421T120006Z
SUMMARY:2026 Cycle for United Way - Provincial Government Campaign
DTSTART;TZID=America/Halifax:20260526T180000
DTEND;TZID=America/Halifax:20260526T210000
URL;VALUE=URI:https://raceroster.com/events/2026/119104/2026-cycle-for-unit
 ed-way-provincial-government-campaign
DESCRIPTION:Event schedule\n\nMay 19 6:00 PM ADT - Mahone Bay to Lunenburg:
  Bay to Bay Trail (20 km total)\nMay 23 8:30 AM ADT - Pictou NS – Jitney
  Trail to Scotsburn (20 km)\nMay 26 6:00 PM ADT - Salt Marsh Trail in Dart
 mouth (20 – 24 km)\n\nSee all event details at https://raceroster.com/ev
 ents/2026/119104/2026-cycle-for-united-way-provincial-government-campaign
LOCATION:Nova Scotia\, Canada
END:VEVENT
END:VCALENDAR
