BEGIN:VCALENDAR
VERSION:2.0
PRODID:-//Fast North Corp//Race Roster
CALSCALE:GREGORIAN
BEGIN:VEVENT
UID:883882_db08c489-191f-4c12-9277-635861c0ceed_1776601858@raceroster.com
DTSTAMP:20260419T123058Z
SUMMARY:Fight for Air Climb Denver
DTSTART;TZID=America/Denver:20260425T080000
DTEND;TZID=America/Denver:20260425T110000
URL;VALUE=URI:https://raceroster.com/events/2026/119114/fight-for-air-climb
 -denver
DESCRIPTION:See all event details at https://raceroster.com/events/2026/119
 114/fight-for-air-climb-denver
LOCATION:2001 Blake St\, Denver\, CO 80205
END:VEVENT
END:VCALENDAR
