BEGIN:VCALENDAR
VERSION:2.0
PRODID:-//Fast North Corp//Race Roster
CALSCALE:GREGORIAN
BEGIN:VEVENT
UID:881823_a0f010ec-264d-4469-b9a2-c9518b9350fa_1776652924@raceroster.com
DTSTAMP:20260420T024204Z
SUMMARY:Gianna Cirella Memorial Mother's Day 5K Walk/Run
DTSTART;TZID=America/New_York:20260510T090000
DTEND;TZID=America/New_York:20260510T120000
URL;VALUE=URI:https://raceroster.com/events/2026/119148/gianna-cirella-memo
 rial-mothers-day-5k-walkrun
DESCRIPTION:See all event details at https://raceroster.com/events/2026/119
 148/gianna-cirella-memorial-mothers-day-5k-walkrun
LOCATION:Goddard Memorial State Park\, 1095 Ives Rd\, East Greenwich\, RI
END:VEVENT
END:VCALENDAR
