BEGIN:VCALENDAR
VERSION:2.0
PRODID:-//Fast North Corp//Race Roster
CALSCALE:GREGORIAN
BEGIN:VEVENT
UID:881837_c2806f9e-88ac-4fa1-97a2-2c6c4ca629d6_1776772610@raceroster.com
DTSTAMP:20260421T115650Z
SUMMARY:Westborough Glow Run
DTSTART;TZID=America/New_York:20260516T191500
DTEND;TZID=America/New_York:20260516T221500
URL;VALUE=URI:https://raceroster.com/events/2026/119151/westborough-glow-ru
 n
DESCRIPTION:See all event details at https://raceroster.com/events/2026/119
 151/westborough-glow-run
LOCATION:Chauncy Lake\, Westborough\, MA
END:VEVENT
END:VCALENDAR
