BEGIN:VCALENDAR
VERSION:2.0
PRODID:-//Fast North Corp//Race Roster
CALSCALE:GREGORIAN
BEGIN:VEVENT
UID:882421_fdd786e1-d08c-4486-88ab-eadaf9b035ea_1776772670@raceroster.com
DTSTAMP:20260421T115750Z
SUMMARY:Run For The Goal 5K
DTSTART;TZID=America/Port_of_Spain:20260704T060000
DTEND;TZID=America/Port_of_Spain:20260704T090000
URL;VALUE=URI:https://raceroster.com/events/2026/119159/run-for-the-goal-5k
DESCRIPTION:See all event details at https://raceroster.com/events/2026/119
 159/run-for-the-goal-5k
LOCATION:Valencia\, Sangre Grande\, Trinidad and Tobago
END:VEVENT
END:VCALENDAR
