BEGIN:VCALENDAR
VERSION:2.0
PRODID:-//Fast North Corp//Race Roster
CALSCALE:GREGORIAN
BEGIN:VEVENT
UID:882277_e43231b9-ee9c-430f-bc7e-f46eb9ebcadb_1777043867@raceroster.com
DTSTAMP:20260424T151747Z
SUMMARY:Sri Chinmoy Spring Half Marathon\, 10 km\, & Kids 2.5 km
DTSTART;TZID=Pacific/Auckland:20260927T090000
DTEND;TZID=Pacific/Auckland:20260927T120000
URL;VALUE=URI:https://raceroster.com/events/2026/119221/sri-chinmoy-spring-
 half-marathon-10-km-and-kids-25-km
DESCRIPTION:See all event details at https://raceroster.com/events/2026/119
 221/sri-chinmoy-spring-half-marathon-10-km-and-kids-25-km
LOCATION:Hagley Park Tennis Courts Riccarton Avenue\, Christchurch Central 
 City\, Christchurch\, New Zealand
END:VEVENT
END:VCALENDAR
