BEGIN:VCALENDAR
VERSION:2.0
PRODID:-//Fast North Corp//Race Roster
CALSCALE:GREGORIAN
BEGIN:VEVENT
UID:882293_25c00bbe-2d0f-4280-8230-90e0e674678e_1776777743@raceroster.com
DTSTAMP:20260421T132223Z
SUMMARY:Run for Newmarket 2026
DTSTART;TZID=America/Toronto:20261004T080000
DTEND;TZID=America/Toronto:20261004T110000
URL;VALUE=URI:https://raceroster.com/events/2026/119224/run-for-newmarket-2
 026
DESCRIPTION:See all event details at https://raceroster.com/events/2026/119
 224/run-for-newmarket-2026
LOCATION:Fairy Lake Park\, Water Street\, Newmarket\, ON\, Canada
END:VEVENT
END:VCALENDAR
