BEGIN:VCALENDAR
VERSION:2.0
PRODID:-//Fast North Corp//Race Roster
CALSCALE:GREGORIAN
BEGIN:VEVENT
UID:884174_df9f1c10-c5de-4a9c-8aa4-4d2b72280ea4_1776787542@raceroster.com
DTSTAMP:20260421T160542Z
SUMMARY:Criterium Race
DTSTART;TZID=America/Los_Angeles:20260418T070000
DTEND;TZID=America/Los_Angeles:20260418T100000
URL;VALUE=URI:https://raceroster.com/events/2026/119237/criterium-race
DESCRIPTION:See all event details at https://raceroster.com/events/2026/119
 237/criterium-race
LOCATION:Laguna Seca Raceway\, Monterey Salinas Highway\, Salinas\, CA\, US
 A
END:VEVENT
END:VCALENDAR
